BEGIN:VCALENDAR
VERSION:2.0
PRODID:-//Iberville Parks &amp; Recreation - ECPv6.15.18//NONSGML v1.0//EN
CALSCALE:GREGORIAN
METHOD:PUBLISH
X-WR-CALNAME:Iberville Parks &amp; Recreation
X-ORIGINAL-URL:https://playiberville.com
X-WR-CALDESC:Events for Iberville Parks &amp; Recreation
REFRESH-INTERVAL;VALUE=DURATION:PT1H
X-Robots-Tag:noindex
X-PUBLISHED-TTL:PT1H
BEGIN:VTIMEZONE
TZID:America/Chicago
BEGIN:DAYLIGHT
TZOFFSETFROM:-0600
TZOFFSETTO:-0500
TZNAME:CDT
DTSTART:20250309T080000
END:DAYLIGHT
BEGIN:STANDARD
TZOFFSETFROM:-0500
TZOFFSETTO:-0600
TZNAME:CST
DTSTART:20251102T070000
END:STANDARD
BEGIN:DAYLIGHT
TZOFFSETFROM:-0600
TZOFFSETTO:-0500
TZNAME:CDT
DTSTART:20260308T080000
END:DAYLIGHT
BEGIN:STANDARD
TZOFFSETFROM:-0500
TZOFFSETTO:-0600
TZNAME:CST
DTSTART:20261101T070000
END:STANDARD
BEGIN:DAYLIGHT
TZOFFSETFROM:-0600
TZOFFSETTO:-0500
TZNAME:CDT
DTSTART:20270314T080000
END:DAYLIGHT
BEGIN:STANDARD
TZOFFSETFROM:-0500
TZOFFSETTO:-0600
TZNAME:CST
DTSTART:20271107T070000
END:STANDARD
END:VTIMEZONE
BEGIN:VEVENT
DTSTART;TZID=America/Chicago:20261005T103000
DTEND;TZID=America/Chicago:20261005T111500
DTSTAMP:20260422T070647
CREATED:20240621T155229Z
LAST-MODIFIED:20240621T155229Z
UID:5015-1791196200-1791198900@playiberville.com
SUMMARY:Come & Get Fit @ IPL
DESCRIPTION:Come & Get Fit at the East Iberville Library is offered every Monday\, Tuesday\, and Wednesday of each week\, with the exception of library holiday/closures. The exercise class is from 10:30-11:15 AM and is open to adults 19 years of age and older.  \nA signed liability waiver is to be completed prior to class. Please wear comfortable clothes and bring a bottle of water. For more information call East Iberville Library at (225) 642-8380.
URL:https://playiberville.com/event/come-get-fit-ipl/2026-10-05/
LOCATION:East Iberville Branch Library\, 5715 Monticello Street\, St. Gabriel\, LA\, 70776
ATTACH;FMTTYPE=image/png:https://playiberville.com/wp-content/uploads/IPL-ComeAndGetFit-Seniors.png
END:VEVENT
BEGIN:VEVENT
DTSTART;TZID=America/Chicago:20261006T103000
DTEND;TZID=America/Chicago:20261006T111500
DTSTAMP:20260422T070647
CREATED:20240621T155229Z
LAST-MODIFIED:20240621T155229Z
UID:5016-1791282600-1791285300@playiberville.com
SUMMARY:Come & Get Fit @ IPL
DESCRIPTION:Come & Get Fit at the East Iberville Library is offered every Monday\, Tuesday\, and Wednesday of each week\, with the exception of library holiday/closures. The exercise class is from 10:30-11:15 AM and is open to adults 19 years of age and older.  \nA signed liability waiver is to be completed prior to class. Please wear comfortable clothes and bring a bottle of water. For more information call East Iberville Library at (225) 642-8380.
URL:https://playiberville.com/event/come-get-fit-ipl/2026-10-06/
LOCATION:East Iberville Branch Library\, 5715 Monticello Street\, St. Gabriel\, LA\, 70776
ATTACH;FMTTYPE=image/png:https://playiberville.com/wp-content/uploads/IPL-ComeAndGetFit-Seniors.png
END:VEVENT
BEGIN:VEVENT
DTSTART;TZID=America/Chicago:20261007T103000
DTEND;TZID=America/Chicago:20261007T111500
DTSTAMP:20260422T070647
CREATED:20240621T155229Z
LAST-MODIFIED:20240621T155229Z
UID:5017-1791369000-1791371700@playiberville.com
SUMMARY:Come & Get Fit @ IPL
DESCRIPTION:Come & Get Fit at the East Iberville Library is offered every Monday\, Tuesday\, and Wednesday of each week\, with the exception of library holiday/closures. The exercise class is from 10:30-11:15 AM and is open to adults 19 years of age and older.  \nA signed liability waiver is to be completed prior to class. Please wear comfortable clothes and bring a bottle of water. For more information call East Iberville Library at (225) 642-8380.
URL:https://playiberville.com/event/come-get-fit-ipl/2026-10-07/
LOCATION:East Iberville Branch Library\, 5715 Monticello Street\, St. Gabriel\, LA\, 70776
ATTACH;FMTTYPE=image/png:https://playiberville.com/wp-content/uploads/IPL-ComeAndGetFit-Seniors.png
END:VEVENT
BEGIN:VEVENT
DTSTART;TZID=America/Chicago:20261012T103000
DTEND;TZID=America/Chicago:20261012T111500
DTSTAMP:20260422T070647
CREATED:20240621T155229Z
LAST-MODIFIED:20240621T155229Z
UID:5018-1791801000-1791803700@playiberville.com
SUMMARY:Come & Get Fit @ IPL
DESCRIPTION:Come & Get Fit at the East Iberville Library is offered every Monday\, Tuesday\, and Wednesday of each week\, with the exception of library holiday/closures. The exercise class is from 10:30-11:15 AM and is open to adults 19 years of age and older.  \nA signed liability waiver is to be completed prior to class. Please wear comfortable clothes and bring a bottle of water. For more information call East Iberville Library at (225) 642-8380.
URL:https://playiberville.com/event/come-get-fit-ipl/2026-10-12/
LOCATION:East Iberville Branch Library\, 5715 Monticello Street\, St. Gabriel\, LA\, 70776
ATTACH;FMTTYPE=image/png:https://playiberville.com/wp-content/uploads/IPL-ComeAndGetFit-Seniors.png
END:VEVENT
BEGIN:VEVENT
DTSTART;TZID=America/Chicago:20261013T103000
DTEND;TZID=America/Chicago:20261013T111500
DTSTAMP:20260422T070647
CREATED:20240621T155229Z
LAST-MODIFIED:20240621T155229Z
UID:5019-1791887400-1791890100@playiberville.com
SUMMARY:Come & Get Fit @ IPL
DESCRIPTION:Come & Get Fit at the East Iberville Library is offered every Monday\, Tuesday\, and Wednesday of each week\, with the exception of library holiday/closures. The exercise class is from 10:30-11:15 AM and is open to adults 19 years of age and older.  \nA signed liability waiver is to be completed prior to class. Please wear comfortable clothes and bring a bottle of water. For more information call East Iberville Library at (225) 642-8380.
URL:https://playiberville.com/event/come-get-fit-ipl/2026-10-13/
LOCATION:East Iberville Branch Library\, 5715 Monticello Street\, St. Gabriel\, LA\, 70776
ATTACH;FMTTYPE=image/png:https://playiberville.com/wp-content/uploads/IPL-ComeAndGetFit-Seniors.png
END:VEVENT
BEGIN:VEVENT
DTSTART;TZID=America/Chicago:20261014T103000
DTEND;TZID=America/Chicago:20261014T111500
DTSTAMP:20260422T070647
CREATED:20240621T155229Z
LAST-MODIFIED:20240621T155229Z
UID:5020-1791973800-1791976500@playiberville.com
SUMMARY:Come & Get Fit @ IPL
DESCRIPTION:Come & Get Fit at the East Iberville Library is offered every Monday\, Tuesday\, and Wednesday of each week\, with the exception of library holiday/closures. The exercise class is from 10:30-11:15 AM and is open to adults 19 years of age and older.  \nA signed liability waiver is to be completed prior to class. Please wear comfortable clothes and bring a bottle of water. For more information call East Iberville Library at (225) 642-8380.
URL:https://playiberville.com/event/come-get-fit-ipl/2026-10-14/
LOCATION:East Iberville Branch Library\, 5715 Monticello Street\, St. Gabriel\, LA\, 70776
ATTACH;FMTTYPE=image/png:https://playiberville.com/wp-content/uploads/IPL-ComeAndGetFit-Seniors.png
END:VEVENT
BEGIN:VEVENT
DTSTART;TZID=America/Chicago:20261019T103000
DTEND;TZID=America/Chicago:20261019T111500
DTSTAMP:20260422T070647
CREATED:20240621T155229Z
LAST-MODIFIED:20240621T155229Z
UID:5116-1792405800-1792408500@playiberville.com
SUMMARY:Come & Get Fit @ IPL
DESCRIPTION:Come & Get Fit at the East Iberville Library is offered every Monday\, Tuesday\, and Wednesday of each week\, with the exception of library holiday/closures. The exercise class is from 10:30-11:15 AM and is open to adults 19 years of age and older.  \nA signed liability waiver is to be completed prior to class. Please wear comfortable clothes and bring a bottle of water. For more information call East Iberville Library at (225) 642-8380.
URL:https://playiberville.com/event/come-get-fit-ipl/2026-10-19/
LOCATION:East Iberville Branch Library\, 5715 Monticello Street\, St. Gabriel\, LA\, 70776
ATTACH;FMTTYPE=image/png:https://playiberville.com/wp-content/uploads/IPL-ComeAndGetFit-Seniors.png
END:VEVENT
BEGIN:VEVENT
DTSTART;TZID=America/Chicago:20261020T103000
DTEND;TZID=America/Chicago:20261020T111500
DTSTAMP:20260422T070647
CREATED:20240621T155229Z
LAST-MODIFIED:20240621T155229Z
UID:5117-1792492200-1792494900@playiberville.com
SUMMARY:Come & Get Fit @ IPL
DESCRIPTION:Come & Get Fit at the East Iberville Library is offered every Monday\, Tuesday\, and Wednesday of each week\, with the exception of library holiday/closures. The exercise class is from 10:30-11:15 AM and is open to adults 19 years of age and older.  \nA signed liability waiver is to be completed prior to class. Please wear comfortable clothes and bring a bottle of water. For more information call East Iberville Library at (225) 642-8380.
URL:https://playiberville.com/event/come-get-fit-ipl/2026-10-20/
LOCATION:East Iberville Branch Library\, 5715 Monticello Street\, St. Gabriel\, LA\, 70776
ATTACH;FMTTYPE=image/png:https://playiberville.com/wp-content/uploads/IPL-ComeAndGetFit-Seniors.png
END:VEVENT
BEGIN:VEVENT
DTSTART;TZID=America/Chicago:20261021T103000
DTEND;TZID=America/Chicago:20261021T111500
DTSTAMP:20260422T070647
CREATED:20240621T155229Z
LAST-MODIFIED:20240621T155229Z
UID:5118-1792578600-1792581300@playiberville.com
SUMMARY:Come & Get Fit @ IPL
DESCRIPTION:Come & Get Fit at the East Iberville Library is offered every Monday\, Tuesday\, and Wednesday of each week\, with the exception of library holiday/closures. The exercise class is from 10:30-11:15 AM and is open to adults 19 years of age and older.  \nA signed liability waiver is to be completed prior to class. Please wear comfortable clothes and bring a bottle of water. For more information call East Iberville Library at (225) 642-8380.
URL:https://playiberville.com/event/come-get-fit-ipl/2026-10-21/
LOCATION:East Iberville Branch Library\, 5715 Monticello Street\, St. Gabriel\, LA\, 70776
ATTACH;FMTTYPE=image/png:https://playiberville.com/wp-content/uploads/IPL-ComeAndGetFit-Seniors.png
END:VEVENT
BEGIN:VEVENT
DTSTART;TZID=America/Chicago:20261026T103000
DTEND;TZID=America/Chicago:20261026T111500
DTSTAMP:20260422T070647
CREATED:20240621T155229Z
LAST-MODIFIED:20240621T155229Z
UID:5350-1793010600-1793013300@playiberville.com
SUMMARY:Come & Get Fit @ IPL
DESCRIPTION:Come & Get Fit at the East Iberville Library is offered every Monday\, Tuesday\, and Wednesday of each week\, with the exception of library holiday/closures. The exercise class is from 10:30-11:15 AM and is open to adults 19 years of age and older.  \nA signed liability waiver is to be completed prior to class. Please wear comfortable clothes and bring a bottle of water. For more information call East Iberville Library at (225) 642-8380.
URL:https://playiberville.com/event/come-get-fit-ipl/2026-10-26/
LOCATION:East Iberville Branch Library\, 5715 Monticello Street\, St. Gabriel\, LA\, 70776
ATTACH;FMTTYPE=image/png:https://playiberville.com/wp-content/uploads/IPL-ComeAndGetFit-Seniors.png
END:VEVENT
BEGIN:VEVENT
DTSTART;TZID=America/Chicago:20261027T103000
DTEND;TZID=America/Chicago:20261027T111500
DTSTAMP:20260422T070647
CREATED:20240621T155229Z
LAST-MODIFIED:20240621T155229Z
UID:5351-1793097000-1793099700@playiberville.com
SUMMARY:Come & Get Fit @ IPL
DESCRIPTION:Come & Get Fit at the East Iberville Library is offered every Monday\, Tuesday\, and Wednesday of each week\, with the exception of library holiday/closures. The exercise class is from 10:30-11:15 AM and is open to adults 19 years of age and older.  \nA signed liability waiver is to be completed prior to class. Please wear comfortable clothes and bring a bottle of water. For more information call East Iberville Library at (225) 642-8380.
URL:https://playiberville.com/event/come-get-fit-ipl/2026-10-27/
LOCATION:East Iberville Branch Library\, 5715 Monticello Street\, St. Gabriel\, LA\, 70776
ATTACH;FMTTYPE=image/png:https://playiberville.com/wp-content/uploads/IPL-ComeAndGetFit-Seniors.png
END:VEVENT
BEGIN:VEVENT
DTSTART;TZID=America/Chicago:20261028T103000
DTEND;TZID=America/Chicago:20261028T111500
DTSTAMP:20260422T070647
CREATED:20240621T155229Z
LAST-MODIFIED:20240621T155229Z
UID:5354-1793183400-1793186100@playiberville.com
SUMMARY:Come & Get Fit @ IPL
DESCRIPTION:Come & Get Fit at the East Iberville Library is offered every Monday\, Tuesday\, and Wednesday of each week\, with the exception of library holiday/closures. The exercise class is from 10:30-11:15 AM and is open to adults 19 years of age and older.  \nA signed liability waiver is to be completed prior to class. Please wear comfortable clothes and bring a bottle of water. For more information call East Iberville Library at (225) 642-8380.
URL:https://playiberville.com/event/come-get-fit-ipl/2026-10-28/
LOCATION:East Iberville Branch Library\, 5715 Monticello Street\, St. Gabriel\, LA\, 70776
ATTACH;FMTTYPE=image/png:https://playiberville.com/wp-content/uploads/IPL-ComeAndGetFit-Seniors.png
END:VEVENT
END:VCALENDAR